BEGIN:VCALENDAR
VERSION:2.0
PRODID:-//Sabre//Sabre VObject 4.3.5//EN
CALSCALE:GREGORIAN
BEGIN:VEVENT
UID:sabre-vobject-c5f8e70e-95ed-4b20-aa79-35245eb31422
DTSTAMP:20260421T145547Z
SUMMARY:5. SINFONIEKONZERT
DTSTART;TZID=Europe/Berlin:20260417T193000
DTEND;TZID=Europe/Berlin:20260417T214500
ORGANIZER;CN=SH Landestheater & Sinfonieorchester:MAILTO:Veranstaltungskale
 nder@sh-landestheater.de
LOCATION:Stadttheater\, Rendsburg\, Rendsburg
GEO:54.3011809;9.6592982
BEGIN:VALARM
TRIGGER;VALUE=DURATION:P1D
ACTION:DISPLAY
DESCRIPTION:5. SINFONIEKONZERT
END:VALARM
END:VEVENT
END:VCALENDAR
