BEGIN:VCALENDAR
VERSION:2.0
PRODID:-//Sabre//Sabre VObject 4.3.5//EN
CALSCALE:GREGORIAN
BEGIN:VEVENT
UID:sabre-vobject-5fbc5a1e-a8a5-4ddc-b579-be928cd318cd
DTSTAMP:20260421T175143Z
SUMMARY:6. SINFONIEKONZERT WEGBEREITER
DTSTART;TZID=Europe/Berlin:20260508T193000
ORGANIZER;CN=SH Landestheater & Sinfonieorchester:MAILTO:Veranstaltungskale
 nder@sh-landestheater.de
LOCATION:Rendsburg Großes Haus\, Rendsburg
GEO:54.3011809;9.6592982
BEGIN:VALARM
TRIGGER;VALUE=DURATION:P1D
ACTION:DISPLAY
DESCRIPTION:6. SINFONIEKONZERT WEGBEREITER
END:VALARM
END:VEVENT
END:VCALENDAR
