BEGIN:VCALENDAR
VERSION:2.0
PRODID:-//Sabre//Sabre VObject 4.3.5//EN
CALSCALE:GREGORIAN
BEGIN:VEVENT
UID:sabre-vobject-c60789f6-4956-4005-b43b-f2ca602b34a6
DTSTAMP:20260421T175637Z
SUMMARY:Abendmahlsgottesdienst Mittwochsgruppe Pastor Jureczek
DTSTART;TZID=Europe/Berlin:20260516T170000
ORGANIZER;CN=Ev.-Luth. Kirchengemeinde Rendsburg:MAILTO:Kirchenbuero.rendsb
 urg@kkre.de
LOCATION:Christkirche\, Prinzenstraße 16\, Rendsburg
GEO:54.2999517;9.6633775
BEGIN:VALARM
TRIGGER;VALUE=DURATION:P1D
ACTION:DISPLAY
DESCRIPTION:Abendmahlsgottesdienst Mittwochsgruppe Pastor Jureczek
END:VALARM
END:VEVENT
END:VCALENDAR
