BEGIN:VCALENDAR
VERSION:2.0
PRODID:-//Sabre//Sabre VObject 4.3.5//EN
CALSCALE:GREGORIAN
BEGIN:VEVENT
UID:sabre-vobject-2b05fea4-0654-476f-b311-1f21bc13b8a2
DTSTAMP:20260421T174328Z
SUMMARY:Ball im Savoy
DTSTART;TZID=Europe/Berlin:20260516T190000
ORGANIZER;CN=SH Landestheater & Sinfonieorchester:MAILTO:Veranstaltungskale
 nder@sh-landestheater.de
LOCATION:Rendsburg Großes Haus\, Rendsburg
GEO:54.3011809;9.6592982
BEGIN:VALARM
TRIGGER;VALUE=DURATION:P1D
ACTION:DISPLAY
DESCRIPTION:Ball im Savoy
END:VALARM
END:VEVENT
END:VCALENDAR
