BEGIN:VCALENDAR
VERSION:2.0
PRODID:-//Sabre//Sabre VObject 4.3.5//EN
CALSCALE:GREGORIAN
BEGIN:VEVENT
UID:sabre-vobject-1cc23bf2-fe1f-4dd1-b532-1c47947dcfa4
DTSTAMP:20260421T175047Z
SUMMARY:Biedermann und die Brandstifter
DTSTART;TZID=Europe/Berlin:20260506T180000
ORGANIZER;CN=SH Landestheater & Sinfonieorchester:MAILTO:Veranstaltungskale
 nder@sh-landestheater.de
LOCATION:Rendsburg Kammerspiele\, Rendsburg
GEO:54.3011809;9.6592982
BEGIN:VALARM
TRIGGER;VALUE=DURATION:P1D
ACTION:DISPLAY
DESCRIPTION:Biedermann und die Brandstifter
END:VALARM
END:VEVENT
END:VCALENDAR
