BEGIN:VCALENDAR
VERSION:2.0
PRODID:-//Sabre//Sabre VObject 4.3.5//EN
CALSCALE:GREGORIAN
BEGIN:VEVENT
UID:sabre-vobject-92f504c6-c4c5-4996-bc64-cf38235d4c2f
DTSTAMP:20260421T173525Z
SUMMARY:Black Rider
DTSTART;TZID=Europe/Berlin:20260517T180000
ORGANIZER;CN=SH Landestheater & Sinfonieorchester:MAILTO:Veranstaltungskale
 nder@sh-landestheater.de
LOCATION:Rendsburg Großes Haus\, Rendsburg
GEO:54.3011809;9.6592982
BEGIN:VALARM
TRIGGER;VALUE=DURATION:P1D
ACTION:DISPLAY
DESCRIPTION:Black Rider
END:VALARM
END:VEVENT
END:VCALENDAR
