BEGIN:VCALENDAR
VERSION:2.0
PRODID:-//Sabre//Sabre VObject 4.3.5//EN
CALSCALE:GREGORIAN
BEGIN:VEVENT
UID:sabre-vobject-c6bf0748-9d9d-4245-bd34-e578c90c79ea
DTSTAMP:20260421T150511Z
SUMMARY:EINE MORDS-FREUNDIN
DTSTART;TZID=Europe/Berlin:20260423T193000
ORGANIZER;CN=Schleswig-Holsteinisches Landestheater und Sinfonieorchester G
 mbH:MAILTO:no-reply@www.musteramt-online.de
LOCATION:Theater Itzhoe\, Rendsburg
GEO:54.3011809;9.6592982
BEGIN:VALARM
TRIGGER;VALUE=DURATION:P1D
ACTION:DISPLAY
DESCRIPTION:EINE MORDS-FREUNDIN
END:VALARM
END:VEVENT
END:VCALENDAR
