BEGIN:VCALENDAR
VERSION:2.0
PRODID:-//Sabre//Sabre VObject 4.3.5//EN
CALSCALE:GREGORIAN
BEGIN:VEVENT
UID:sabre-vobject-e56af78b-090e-4cd0-a783-619f1213b30e
DTSTAMP:20260421T174321Z
SUMMARY:Eine Mordsfreundin
DTSTART;TZID=Europe/Berlin:20260509T190000
ORGANIZER;CN=SH Landestheater & Sinfonieorchester:MAILTO:Veranstaltungskale
 nder@sh-landestheater.de
LOCATION:Rendsburg Großes Haus\, Rendsburg
GEO:54.3011809;9.6592982
BEGIN:VALARM
TRIGGER;VALUE=DURATION:P1D
ACTION:DISPLAY
DESCRIPTION:Eine Mordsfreundin
END:VALARM
END:VEVENT
END:VCALENDAR
