BEGIN:VCALENDAR
VERSION:2.0
PRODID:-//Sabre//Sabre VObject 4.3.5//EN
CALSCALE:GREGORIAN
BEGIN:VEVENT
UID:sabre-vobject-c46e8add-26e7-40c6-b6c6-791745d1262a
DTSTAMP:20260421T175047Z
SUMMARY:Fahrrad Gottesdienst an Himmelfahrt
DTSTART;TZID=Europe/Berlin:20260514T090000
DTEND;TZID=Europe/Berlin:20260514T130000
ORGANIZER;CN=Ev.-Luth. Kirchengemeinde Westerrönfeld:MAILTO:kirchenbuero@l
 uther-kirche.net
LOCATION:Lutherkirche\, Am Kindergarten 1\, Westerrönfeld
GEO:54.281834;9.649494
DESCRIPTION:Fahrrad Gottesdienst Open Air an Himmelfahrt\n9 Uhr Start an de
 r Lutherkirche mit anschließender Fahrradtour
BEGIN:VALARM
TRIGGER;VALUE=DURATION:P1D
ACTION:DISPLAY
DESCRIPTION:Fahrrad Gottesdienst an Himmelfahrt
END:VALARM
END:VEVENT
END:VCALENDAR
