BEGIN:VCALENDAR
VERSION:2.0
PRODID:-//Sabre//Sabre VObject 4.3.5//EN
CALSCALE:GREGORIAN
BEGIN:VEVENT
UID:sabre-vobject-ef8bc065-5f4c-49fe-8d8b-08c939f37312
DTSTAMP:20260421T175637Z
SUMMARY:Fahrradgottesdienst an Himmelfahrt
DTSTART;TZID=Europe/Berlin:20260514T090000
ORGANIZER;CN=Ev.-Luth. Kirchengemeinde St. Michaelis Osterrönfeld:MAILTO:k
 g-osterroenfeld@kkre.de
LOCATION:St. Michaelis\, Dorfstraße 36\, Osterrönfeld
GEO:54.289958;9.695018
DESCRIPTION:mit Pastorin Hanke u.a\nStart ist am Glockenturm der St. Michae
 liskirche in Osterrönfeld. Um 9:00 Uhr starten die Gemeinden Jevenstedt\,
  Osterrönfeld\, Schacht-Audorf und Westerrönfeld mit einem Reisesegen in
  ihren Gemeinden auf dem Fahrrad zum Hof Osterloh\, Schäferkate 1 in Boke
 lholm.Um 10:00 Uhr findet dort ein Open-Air-Gottesdienst statt (ca. 45 Min
 ) und im Anschluss fahren wir zum Mittagessen zu Erwin Schröder\, in der 
 Itzehoer Chaussee 1 in Jevenstedt.Am Ende\, ca. 11:30 - 12:30 Uhr\, fährt
  jeder selbstständig nach Hause.
BEGIN:VALARM
TRIGGER;VALUE=DURATION:P1D
ACTION:DISPLAY
DESCRIPTION:Fahrradgottesdienst an Himmelfahrt
END:VALARM
END:VEVENT
END:VCALENDAR
