BEGIN:VCALENDAR
VERSION:2.0
PRODID:-//Sabre//Sabre VObject 4.3.5//EN
CALSCALE:GREGORIAN
BEGIN:VEVENT
UID:sabre-vobject-e0221be6-7c00-480b-a8f4-352673d68671
DTSTAMP:20260421T175306Z
SUMMARY:Fahrradgottesdienst m. den Nachbargemeinden
DTSTART;TZID=Europe/Berlin:20260514T090000
DTEND;TZID=Europe/Berlin:20260514T110000
ORGANIZER;CN=Ev.-Luth. Kirchengemeinde Jevenstedt:MAILTO:Kg-jevenstedt@kkre
 .de
LOCATION:St. Georg-Kirche Jevenstedt\, Dorfstraße 24\, Jevenstedt
GEO:54.232704;9.664909
BEGIN:VALARM
TRIGGER;VALUE=DURATION:P1D
ACTION:DISPLAY
DESCRIPTION:Fahrradgottesdienst m. den Nachbargemeinden
END:VALARM
END:VEVENT
END:VCALENDAR
