BEGIN:VCALENDAR
VERSION:2.0
PRODID:-//Sabre//Sabre VObject 4.3.5//EN
CALSCALE:GREGORIAN
BEGIN:VEVENT
UID:sabre-vobject-3a45e377-27c2-4033-b6cf-f243e32b79da
DTSTAMP:20260421T152039Z
SUMMARY:Frank Schwieger stellt "Ich\, Julia\, und die Menschen aus Pempejii
 " vor
DTSTART;TZID=Europe/Berlin:20260521T170000
DTEND;TZID=Europe/Berlin:20260521T183000
ORGANIZER;CN=Coburg'sche Buchhandlung:MAILTO:service@coburgsche.de
LOCATION:Stadtbücherei Büdelsdorf\, Zur Bücherei 3\, Büdelsdorf
GEO:54.3166121;9.6661821
DESCRIPTION:Mit seinem Mitte Mai erscheinenden neuen Buch entführt uns Fra
 nk Schwieger in das bunte Alltagsleben der römischen Antike am Golf von N
 eapel.\nOb Sklave\, Händler oder Gladiator: Jeder stellt sein Leben vor u
 ngefähr 2000 Jahren kindgerecht vor. Angesprochen sind vor allem Kinder a
 b ca. 9 Jahren. Zudem werden die Erzählungen von illustrierten Sachseiten
  und einer Karte von Pompeji begleitet.
BEGIN:VALARM
TRIGGER;VALUE=DURATION:P1D
ACTION:DISPLAY
DESCRIPTION:Frank Schwieger stellt "Ich\, Julia\, und die Menschen aus Pemp
 ejii" vor
END:VALARM
END:VEVENT
END:VCALENDAR
