BEGIN:VCALENDAR
VERSION:2.0
PRODID:-//Sabre//Sabre VObject 4.3.5//EN
CALSCALE:GREGORIAN
BEGIN:VEVENT
UID:sabre-vobject-6d624358-d62e-4137-9d71-dd2293d7fc1c
DTSTAMP:20260421T145828Z
SUMMARY:Gottesdienst in der Christkirche
DTSTART;TZID=Europe/Berlin:20260426T094500
ORGANIZER;CN=Ev.-Luth. Kirchengemeinde Rendsburg:MAILTO:Kirchenbuero.rendsb
 urg@kkre.de
LOCATION:Christkirche\, Prinzenstraße 16\, Rendsburg
GEO:54.2994058;9.6620418
BEGIN:VALARM
TRIGGER;VALUE=DURATION:P1D
ACTION:DISPLAY
DESCRIPTION:Gottesdienst in der Christkirche
END:VALARM
END:VEVENT
END:VCALENDAR
