BEGIN:VCALENDAR
VERSION:2.0
PRODID:-//Sabre//Sabre VObject 4.3.5//EN
CALSCALE:GREGORIAN
BEGIN:VEVENT
UID:sabre-vobject-2ad93219-df4c-4ac8-9a83-fcac1a23c8f1
DTSTAMP:20260421T150429Z
SUMMARY:Gottesdienst in der St. Jürgen-Kirche
DTSTART;TZID=Europe/Berlin:20260419T103000
ORGANIZER;CN=Ev.-Luth. Kirchengemeinde Rendsburg:MAILTO:Kirchenbuero.rendsb
 urg@kkre.de
LOCATION:St. Jürgen-Kirche\, Ahlmannstraße 18\, Rendsburg
GEO:54.3136032;9.639459
BEGIN:VALARM
TRIGGER;VALUE=DURATION:P1D
ACTION:DISPLAY
DESCRIPTION:Gottesdienst in der St. Jürgen-Kirche
END:VALARM
END:VEVENT
END:VCALENDAR
