BEGIN:VCALENDAR
VERSION:2.0
PRODID:-//Sabre//Sabre VObject 4.3.5//EN
CALSCALE:GREGORIAN
BEGIN:VEVENT
UID:sabre-vobject-6d5ced44-4436-4be2-94fe-96797b4712f6
DTSTAMP:20260421T175124Z
SUMMARY:Gottesdienst in der St. Jürgen-Kirche
DTSTART;TZID=Europe/Berlin:20260517T103000
ORGANIZER;CN=Ev.-Luth. Kirchengemeinde Rendsburg:MAILTO:Kirchenbuero.rendsb
 urg@kkre.de
LOCATION:St. Jürgen-Kirche\, Ahlmannstraße 18\, Rendsburg
GEO:54.3128754;9.6375086
BEGIN:VALARM
TRIGGER;VALUE=DURATION:P1D
ACTION:DISPLAY
DESCRIPTION:Gottesdienst in der St. Jürgen-Kirche
END:VALARM
END:VEVENT
END:VCALENDAR
