BEGIN:VCALENDAR
VERSION:2.0
PRODID:-//Sabre//Sabre VObject 4.3.5//EN
CALSCALE:GREGORIAN
BEGIN:VEVENT
UID:sabre-vobject-5f19d90d-3485-4c8f-bee4-ed67665764ce
DTSTAMP:20260421T150756Z
SUMMARY:Gottesdienst in der St. Marien-Kirche
DTSTART;TZID=Europe/Berlin:20260426T110000
ORGANIZER;CN=Ev.-Luth. Kirchengemeinde Rendsburg:MAILTO:Kirchenbuero.rendsb
 urg@kkre.de
LOCATION:St. Marien-Kirche\, An der Marienkirche 6\, Rendsburg
GEO:54.3052847;9.665096
BEGIN:VALARM
TRIGGER;VALUE=DURATION:P1D
ACTION:DISPLAY
DESCRIPTION:Gottesdienst in der St. Marien-Kirche
END:VALARM
END:VEVENT
END:VCALENDAR
