BEGIN:VCALENDAR
VERSION:2.0
PRODID:-//Sabre//Sabre VObject 4.3.5//EN
CALSCALE:GREGORIAN
BEGIN:VEVENT
UID:sabre-vobject-2f19b4c5-605b-4b5f-9ad1-c5fbf2125aea
DTSTAMP:20260421T175306Z
SUMMARY:Gottesdienst in der St. Marien-Kirche mit Heiligem Abendmahl
DTSTART;TZID=Europe/Berlin:20260517T110000
ORGANIZER;CN=Ev.-Luth. Kirchengemeinde Rendsburg:MAILTO:Kirchenbuero.rendsb
 urg@kkre.de
LOCATION:St. Marien-Kirche\, An der Marienkirche 6\, Rendsburg
GEO:54.3052847;9.665096
BEGIN:VALARM
TRIGGER;VALUE=DURATION:P1D
ACTION:DISPLAY
DESCRIPTION:Gottesdienst in der St. Marien-Kirche mit Heiligem Abendmahl
END:VALARM
END:VEVENT
END:VCALENDAR
