BEGIN:VCALENDAR
VERSION:2.0
PRODID:-//Sabre//Sabre VObject 4.3.5//EN
CALSCALE:GREGORIAN
BEGIN:VEVENT
UID:sabre-vobject-e9d43f7a-4c72-4639-a407-34646a5743a3
DTSTAMP:20260421T202504Z
SUMMARY:Handarbeitskreis
DTSTART;TZID=Europe/Berlin:20260511T143000
DTEND;TZID=Europe/Berlin:20260511T170000
ORGANIZER;CN=Ev.-Luth. Kirchengemeinde Schacht-Audorf:MAILTO:ev-kirchengeme
 inde.sad@kkre.de
LOCATION:Gemeindehaus St. Johannes\, Schacht-Audorf
GEO:54.3132409;9.7185312
BEGIN:VALARM
TRIGGER;VALUE=DURATION:P1D
ACTION:DISPLAY
DESCRIPTION:Handarbeitskreis
END:VALARM
END:VEVENT
END:VCALENDAR
