BEGIN:VCALENDAR
VERSION:2.0
PRODID:-//Sabre//Sabre VObject 4.3.5//EN
CALSCALE:GREGORIAN
BEGIN:VEVENT
UID:sabre-vobject-a03d840b-d0d0-43e2-a722-5637ea384bc2
DTSTAMP:20260421T134232Z
SUMMARY:JUGENDKONZERT
DTSTART;TZID=Europe/Berlin:20260422T090000
DTEND;TZID=Europe/Berlin:20260422T100000
ORGANIZER;CN=SH Landestheater & Sinfonieorchester:MAILTO:Veranstaltungskale
 nder@sh-landestheater.de
LOCATION:Stadttheater\, Rendsburg\, Rendsburg
GEO:54.3011809;9.6592982
BEGIN:VALARM
TRIGGER;VALUE=DURATION:P1D
ACTION:DISPLAY
DESCRIPTION:JUGENDKONZERT
END:VALARM
END:VEVENT
END:VCALENDAR
