BEGIN:VCALENDAR
VERSION:2.0
PRODID:-//Sabre//Sabre VObject 4.3.5//EN
CALSCALE:GREGORIAN
BEGIN:VEVENT
UID:sabre-vobject-f1476f61-8f82-41fa-a9ab-5250aeeb7235
DTSTAMP:20260421T184656Z
SUMMARY:Maikrone Hissen
DTSTART;TZID=Europe/Berlin:20260501T000000
ORGANIZER;CN=:MAILTO:no-reply@www.musteramt-online.de
LOCATION:Dorfplatz Schacht-Audorf\, Schacht-Audorf
GEO:54.3132409;9.7185312
DESCRIPTION:Maikrone Hissen auf dem Dorfplatz der Ortshandwerker
BEGIN:VALARM
TRIGGER;VALUE=DURATION:P1D
ACTION:DISPLAY
DESCRIPTION:Maikrone Hissen
END:VALARM
END:VEVENT
END:VCALENDAR
