BEGIN:VCALENDAR
VERSION:2.0
PRODID:-//Sabre//Sabre VObject 4.3.5//EN
CALSCALE:GREGORIAN
BEGIN:VEVENT
UID:sabre-vobject-2a817d1f-42f6-4fe7-aff6-47d943d4c756
DTSTAMP:20260421T175407Z
SUMMARY:Open-Air Gottesdienst an Christi Himmelfahrt in der Baumkirche auf 
 dem Kolonistenhof mit anschließendem Fest
DTSTART;TZID=Europe/Berlin:20260514T103000
ORGANIZER;CN=Ev.-Luth. Kirchengemeinde Rendsburg:MAILTO:Kirchenbuero.rendsb
 urg@kkre.de
LOCATION:Baumkirche Kolonistenhof\, Bornbarg 11\, Alt Duvenstedt
GEO:54.3705433;9.6740983
DESCRIPTION:An Christi Himmelfahrt lädt die Kirchengemeinde Rendsburg zu e
 inem Gottesdienst unter freiem Himmel in die Baumkirche ein. Er steht unte
 r dem Motto „Über den Wolken“ und wird gestaltet von Diakon Carsten..
 .\nAn Christi Himmelfahrt lädt die Kirchengemeinde Rendsburg zu einem Got
 tesdienst unter freiem Himmel in die Baumkirche ein. Er steht unter dem Mo
 tto „Über den Wolken“ und wird gestaltet von Diakon Carsten Gallinat\
 , Pastorin Claudia Heynen und dem Rendsburger Posaunenchor unter Leitung v
 on Reinhard Noeske. Anschließend laden wir zu einem kleinen Fest auf dem 
 Hof ein. Dort können Sie es sich gemeinsam mit anderen auf dem Hofplatz u
 nter der Eiche gut gehen lassen – bei Würstchen vom Grill\, Brötchen a
 us dem Backhaus\, Kaffee und selbstgebackenem Kuchen. Alles Essen und Trin
 ken sind frei\, um eine Spende wird gebeten. Der Gottesdienst auf findet b
 ei jedem Wetter statt (bei Regen auf dem Hofplatz unter dem Dach der Remis
 e). &nbsp\;
BEGIN:VALARM
TRIGGER;VALUE=DURATION:P1D
ACTION:DISPLAY
DESCRIPTION:Open-Air Gottesdienst an Christi Himmelfahrt in der Baumkirche 
 auf dem Kolonistenhof mit anschließendem Fest
END:VALARM
END:VEVENT
END:VCALENDAR
