BEGIN:VCALENDAR
VERSION:2.0
PRODID:-//Sabre//Sabre VObject 4.3.5//EN
CALSCALE:GREGORIAN
BEGIN:VEVENT
UID:sabre-vobject-f82ef47d-54c2-4589-889a-038c5b8e7b32
DTSTAMP:20260421T175143Z
SUMMARY:PREMIERE GESETZ DER STILLE /  S5 EP13: TRAU DICH!
DTSTART;TZID=Europe/Berlin:20260513T180000
ORGANIZER;CN=SH Landestheater & Sinfonieorchester:MAILTO:Veranstaltungskale
 nder@sh-landestheater.de
LOCATION:Rendsburg Kammerspiele\, Rendsburg
GEO:54.3011809;9.6592982
DESCRIPTION:18.00 | Kammerspiele | 8 €\nPREMIERE\nGESETZ DER STILLE / \nS
 5 EP13: TRAU DICH! \nEin Projekt des Theaterjugendclubs \nRendsburg
BEGIN:VALARM
TRIGGER;VALUE=DURATION:P1D
ACTION:DISPLAY
DESCRIPTION:PREMIERE GESETZ DER STILLE /  S5 EP13: TRAU DICH!
END:VALARM
END:VEVENT
END:VCALENDAR
