BEGIN:VCALENDAR
VERSION:2.0
PRODID:-//Sabre//Sabre VObject 4.3.5//EN
CALSCALE:GREGORIAN
BEGIN:VEVENT
UID:sabre-vobject-05d75d0d-b92a-4698-8abf-d8cc4c4a22ba
DTSTAMP:20260421T163103Z
SUMMARY:Robbi Tobbi und das Fliewatüüt
DTSTART;TZID=Europe/Berlin:20260519T093000
ORGANIZER;CN=SH Landestheater & Sinfonieorchester:MAILTO:Veranstaltungskale
 nder@sh-landestheater.de
LOCATION:Rendsburg Kammerspiele\, Rendsburg
GEO:54.3011809;9.6592982
BEGIN:VALARM
TRIGGER;VALUE=DURATION:P1D
ACTION:DISPLAY
DESCRIPTION:Robbi Tobbi und das Fliewatüüt
END:VALARM
END:VEVENT
END:VCALENDAR
