BEGIN:VCALENDAR
VERSION:2.0
PRODID:-//Sabre//Sabre VObject 4.3.5//EN
CALSCALE:GREGORIAN
BEGIN:VEVENT
UID:sabre-vobject-55d32731-d7a2-4090-95e3-f1c953981686
DTSTAMP:20260421T151801Z
SUMMARY:Sitzung Ausschuss für Gemeinwesen\, Umwelt und Digitalisierung Bor
 gstedt am 21.05.2026
DTSTART;TZID=Europe/Berlin:20260521T190000
ORGANIZER;CN=Ausschuss für Gemeinwesen:MAILTO:no-reply@www.musteramt-onlin
 e.de
LOCATION:Uns Dörpshus\, Uns Dörpshus\, Borgstedt
GEO:54.3303833;9.7079798
BEGIN:VALARM
TRIGGER;VALUE=DURATION:P1D
ACTION:DISPLAY
DESCRIPTION:Sitzung Ausschuss für Gemeinwesen\, Umwelt und Digitalisierung
  Borgstedt am 21.05.2026
END:VALARM
END:VEVENT
END:VCALENDAR
