BEGIN:VCALENDAR
VERSION:2.0
PRODID:-//Sabre//Sabre VObject 4.3.5//EN
CALSCALE:GREGORIAN
BEGIN:VEVENT
UID:sabre-vobject-f13f3ca5-e896-4b07-b710-d4c78b88605a
DTSTAMP:20260421T162926Z
SUMMARY:Sitzung des Hauptausschusses
DTSTART;TZID=Europe/Berlin:20260521T170000
DTEND;TZID=Europe/Berlin:20260521T193000
ORGANIZER;CN=Hauptausschuss:MAILTO:no-reply@www.musteramt-online.de
LOCATION:Kreishaus\, Kaiserstraße 8\, Rendsburg
GEO:54.2975653;9.6694633
BEGIN:VALARM
TRIGGER;VALUE=DURATION:P1D
ACTION:DISPLAY
DESCRIPTION:Sitzung des Hauptausschusses
END:VALARM
END:VEVENT
END:VCALENDAR
