BEGIN:VCALENDAR
VERSION:2.0
PRODID:-//Sabre//Sabre VObject 4.3.5//EN
CALSCALE:GREGORIAN
BEGIN:VEVENT
UID:sabre-vobject-6a692fc3-3032-495c-b2d0-0e73d693c195
DTSTAMP:20260421T202502Z
SUMMARY:Sitzung des Jugendhilfeausschusses
DTSTART;TZID=Europe/Berlin:20260513T170000
DTEND;TZID=Europe/Berlin:20260513T190000
ORGANIZER;CN=Jugendhilfeausschuss:MAILTO:no-reply@www.musteramt-online.de
LOCATION:Kreishaus\, Kaiserstraße 8\, Rendsburg
GEO:54.2975653;9.6694633
BEGIN:VALARM
TRIGGER;VALUE=DURATION:P1D
ACTION:DISPLAY
DESCRIPTION:Sitzung des Jugendhilfeausschusses
END:VALARM
END:VEVENT
END:VCALENDAR
