BEGIN:VCALENDAR
VERSION:2.0
PRODID:-//Sabre//Sabre VObject 4.3.5//EN
CALSCALE:GREGORIAN
BEGIN:VEVENT
UID:sabre-vobject-9215b3b3-8912-43cd-addc-f6b834cf46bb
DTSTAMP:20260421T151808Z
SUMMARY:Tanz in den Mai
DTSTART;TZID=Europe/Berlin:20260430T000000
ORGANIZER;CN=:MAILTO:no-reply@www.musteramt-online.de
LOCATION:Schacht-Audorf\, Schacht-Audorf
GEO:54.3132409;9.7185312
DESCRIPTION:Tanz in den Mai\nweitere Infos folgen
BEGIN:VALARM
TRIGGER;VALUE=DURATION:P1D
ACTION:DISPLAY
DESCRIPTION:Tanz in den Mai
END:VALARM
END:VEVENT
END:VCALENDAR
