BEGIN:VCALENDAR
VERSION:2.0
PRODID:-//Sabre//Sabre VObject 4.3.5//EN
CALSCALE:GREGORIAN
BEGIN:VEVENT
UID:sabre-vobject-32be8128-127f-4647-a514-0ce5619de73b
DTSTAMP:20260421T152219Z
SUMMARY:THE BLACK RIDER
DTSTART;TZID=Europe/Berlin:20260425T190000
ORGANIZER;CN=SH Landestheater & Sinfonieorchester:MAILTO:Veranstaltungskale
 nder@sh-landestheater.de
LOCATION:Stadttheater\, Rendsburg\, Rendsburg
GEO:54.3011809;9.6592982
BEGIN:VALARM
TRIGGER;VALUE=DURATION:P1D
ACTION:DISPLAY
DESCRIPTION:THE BLACK RIDER
END:VALARM
END:VEVENT
END:VCALENDAR
