BEGIN:VCALENDAR
VERSION:2.0
PRODID:-//Sabre//Sabre VObject 4.3.5//EN
CALSCALE:GREGORIAN
BEGIN:VEVENT
UID:sabre-vobject-fea735aa-ea0e-41d4-b1a9-af3102f302f5
DTSTAMP:20260421T145701Z
SUMMARY:THE BLACK RIDER
DTSTART;TZID=Europe/Berlin:20260430T193000
ORGANIZER;CN=Schleswig-Holsteinisches Landestheater und Sinfonieorchester G
 mbH:MAILTO:no-reply@www.musteramt-online.de
LOCATION:Theater Itzhoe\, Rendsburg
GEO:54.3011809;9.6592982
BEGIN:VALARM
TRIGGER;VALUE=DURATION:P1D
ACTION:DISPLAY
DESCRIPTION:THE BLACK RIDER
END:VALARM
END:VEVENT
END:VCALENDAR
