BEGIN:VCALENDAR
VERSION:2.0
PRODID:-//Sabre//Sabre VObject 4.3.5//EN
CALSCALE:GREGORIAN
BEGIN:VEVENT
UID:sabre-vobject-448844ee-290a-42c6-93ec-06d35acf04e0
DTSTAMP:20260421T152219Z
SUMMARY:Und morgen streiken die Wale
DTSTART;TZID=Europe/Berlin:20260424T110000
ORGANIZER;CN=Schleswig-Holsteinisches Landestheater und Sinfonieorchester G
 mbH:MAILTO:no-reply@www.musteramt-online.de
LOCATION:MOBIL\, Rendsburg
GEO:54.3011809;9.6592982
BEGIN:VALARM
TRIGGER;VALUE=DURATION:P1D
ACTION:DISPLAY
DESCRIPTION:Und morgen streiken die Wale
END:VALARM
END:VEVENT
END:VCALENDAR
