BEGIN:VCALENDAR
VERSION:2.0
PRODID:-//Sabre//Sabre VObject 4.3.5//EN
CALSCALE:GREGORIAN
BEGIN:VEVENT
UID:sabre-vobject-69848803-755b-4231-b306-72d48c7555ef
DTSTAMP:20260421T174450Z
SUMMARY:Von der Verführung des Bösen
DTSTART;TZID=Europe/Berlin:20260517T163000
ORGANIZER;CN=SH Landestheater & Sinfonieorchester:MAILTO:Veranstaltungskale
 nder@sh-landestheater.de
LOCATION:Rendsburg\, Großes Foyer\, Rendsburg
GEO:54.3011809;9.6592982
BEGIN:VALARM
TRIGGER;VALUE=DURATION:P1D
ACTION:DISPLAY
DESCRIPTION:Von der Verführung des Bösen
END:VALARM
END:VEVENT
END:VCALENDAR
